BEGIN:VCALENDAR
PRODID:-//Microsoft Corporation//Outlook 16.0 MIMEDIR//EN
VERSION:2.0
METHOD:REQUEST
X-MS-OLK-FORCEINSPECTOROPEN:TRUE
BEGIN:VTIMEZONE
TZID:W. Europe Standard Time
BEGIN:STANDARD
DTSTART:16011028T030000
RRULE:FREQ=YEARLY;BYDAY=-1SU;BYMONTH=10
TZOFFSETFROM:+0200
TZOFFSETTO:+0100
END:STANDARD
BEGIN:DAYLIGHT
DTSTART:16010325T020000
RRULE:FREQ=YEARLY;BYDAY=-1SU;BYMONTH=3
TZOFFSETFROM:+0100
TZOFFSETTO:+0200
END:DAYLIGHT
END:VTIMEZONE
BEGIN:VEVENT
ATTENDEE;CN="Faldt Carolina (HC/SEN-MK)";ROLE=OPT-PARTICIPANT;RSVP=TRUE:mai
	lto:Carolina.Faldt@se.bosch.com
CLASS:PUBLIC
CREATED:20260407T130058Z
DESCRIPTION:En produktgenomgång på nya 7801i\n\n_________________________
	_______________________________________________________\n\nMicrosoft Teams
	-möte \n\nAnslut till: https://teams.microsoft.com/meet/397521030067222?p
	=WUuMuw59qUOrf6RFYj <https://teams.microsoft.com/meet/397521030067222?p=WU
	uMuw59qUOrf6RFYj>  \n\nMötes-ID: 397 521 030 067 222 \n\nLösenord: 5nP2W
	9K6 \n\n________________________________\n\nBehöver du hjälp? <https://a
	ka.ms/JoinTeamsMeeting?omkt=sv-SE>  | Systemreferens <https://teams.micros
	oft.com/l/meetup-join/19%3ameeting_YTIzY2VlNjAtODA0NS00N2Y1LThmNmEtNjY5MDV
	mYWU4Y2M2%40thread.v2/0?context=%7b%22Tid%22%3a%220ae51e19-07c8-4e4b-bb6d-
	648ee58410f4%22%2c%22Oid%22%3a%22aa560502-1c3e-49c4-9ced-0f850f3113a8%22%7
	d>  \n\nRing in via telefon \n\n+46 8 505 218 03\,\,635609424# <tel:+46850
	521803\,\,635609424>  Sverige\, Stockholm \n\nHitta ett lokalt telefonnumm
	er <https://dialin.teams.microsoft.com/875d2cdb-68a9-4217-8ace-2c44218b3c9
	3?id=635609424>  \n\nTelefonkonferens-ID: 635 609 424# \n\nAnslut via en v
	ideokonferensenhet \n\nKlientorganisationsnyckel: bosch@m.webex.com \n\nVi
	deo-ID: 128 947 088 80 \n\nMer information <https://www.webex.com/msteams?
	confid=12894708880&tenantkey=bosch&domain=m.webex.com>  \n\nFör organisat
	örer: Mötesalternativ <https://teams.microsoft.com/meetingOptions/?organ
	izerId=aa560502-1c3e-49c4-9ced-0f850f3113a8&tenantId=0ae51e19-07c8-4e4b-bb
	6d-648ee58410f4&threadId=19_meeting_YTIzY2VlNjAtODA0NS00N2Y1LThmNmEtNjY5MD
	VmYWU4Y2M2@thread.v2&messageId=0&language=sv-SE>  | Återställ PIN-kod f
	ör uppringning <https://dialin.teams.microsoft.com/usp/pstnconferencing> 
	 \n\nHave a look at our Bosch-hints: Meetings & Calls (1) https://bos.ch/S
	Pe\, and C-SC3 (2) https://bos.ch/CbF Whenever possible\, join via the Tea
	ms client and use a recommended headset (3) https://bos.ch/zBEa\n\nSekrete
	ss och säkerhet <https://msprivacynotice.z16.web.core.windows.net/>  \n\n
	__________________________________________________________________________
	______\n\n \n\n
DTEND;TZID="W. Europe Standard Time":20260421T093000
DTSTAMP:20260407T063913Z
DTSTART;TZID="W. Europe Standard Time":20260421T080000
LAST-MODIFIED:20260407T130058Z
LOCATION:Microsoft Teams-möte
ORGANIZER;CN="Ahlm Martin (HC/SEN-PT)":mailto:Martin.Ahlm@ivt.se
PRIORITY:5
SEQUENCE:0
SUMMARY:Bosch CS7801i
TRANSP:OPAQUE
UID:040000008200E00074C5B7101A82E00800000000801FC0BE69C6DC01000000000000000
	01000000044E80DA15072534696B96BBA12E0B577
X-ALT-DESC;FMTTYPE=text/html:<html xmlns:v="urn:schemas-microsoft-com:vml" 
	xmlns:o="urn:schemas-microsoft-com:office:office" xmlns:w="urn:schemas-mic
	rosoft-com:office:word" xmlns:m="http://schemas.microsoft.com/office/2004/
	12/omml" xmlns="http://www.w3.org/TR/REC-html40"><head>\n<meta name="Gener
	ator" content="Microsoft Word 15 (filtered medium)"><!--[if !mso]><style>v
	\\:* {behavior:url(#default#VML)\;}\no\\:* {behavior:url(#default#VML)\;}\
	nw\\:* {behavior:url(#default#VML)\;}\n.shape {behavior:url(#default#VML)\
	;}\n</style><![endif]--><style><!--\n/* Font Definitions */\n@font-face\n	
	{font-family:"Cambria Math"\;\n	panose-1:2 4 5 3 5 4 6 3 2 4\;}\n@font-fac
	e\n	{font-family:Aptos\;}\n@font-face\n	{font-family:"Segoe UI"\;\n	panose
	-1:2 11 5 2 4 2 4 2 2 3\;}\n/* Style Definitions */\np.MsoNormal\, li.MsoN
	ormal\, div.MsoNormal\n	{margin:0cm\;\n	font-size:12.0pt\;\n	font-family:"
	Aptos"\,sans-serif\;\n	mso-ligatures:standardcontextual\;\n	mso-fareast-la
	nguage:EN-US\;}\na:link\, span.MsoHyperlink\n	{mso-style-priority:99\;\n	c
	olor:#467886\;\n	text-decoration:underline\;}\nspan.me-email-text\n	{mso-s
	tyle-name:me-email-text\;}\nspan.me-email-text-secondary\n	{mso-style-name
	:me-email-text-secondary\;}\nspan.me-email-headline\n	{mso-style-name:me-e
	mail-headline\;}\nspan.E-postmall21\n	{mso-style-type:personal-compose\;}\
	n.MsoChpDefault\n	{mso-style-type:export-only\;\n	font-size:10.0pt\;\n	mso
	-ligatures:none\;}\n@page WordSection1\n	{size:612.0pt 792.0pt\;\n	margin:
	72.0pt 72.0pt 72.0pt 72.0pt\;}\ndiv.WordSection1\n	{page:WordSection1\;}\n
	--></style><!--[if gte mso 9]><xml>\n<o:shapedefaults v:ext="edit" spidmax
	="1026" />\n</xml><![endif]--><!--[if gte mso 9]><xml>\n<o:shapelayout v:e
	xt="edit">\n<o:idmap v:ext="edit" data="1" />\n</o:shapelayout></xml><![en
	dif]--></head><body lang="SV" link="#467886" vlink="#96607D" style="word-w
	rap:break-word"><div class="WordSection1"><p class="MsoNormal">En produktg
	enomgång på nya 7801i<o:p></o:p></p><div><div style="margin-bottom:18.0p
	t\;overflow:hidden"><p class="MsoNormal"><span style="font-family:&quot\;S
	egoe UI&quot\;\,sans-serif\;color:#242424">_______________________________
	_________________________________________________</span><span style="font-
	family:&quot\;Segoe UI&quot\;\,sans-serif\;color:#242424\;mso-ligatures:no
	ne"><o:p></o:p></span></p></div><div style="margin-bottom:9.0pt"><p class=
	"MsoNormal"><span class="me-email-text"><b><span style="font-size:15.0pt\;
	font-family:&quot\;Segoe UI&quot\;\,sans-serif\;color:#242424">Microsoft T
	eams-möte</span></b></span><span style="font-family:&quot\;Segoe UI&quot\
	;\,sans-serif\;color:#242424"> <o:p></o:p></span></p></div><div style="mar
	gin-bottom:4.5pt\;overflow-wrap: break-word"><p class="MsoNormal"><span cl
	ass="me-email-text"><b><span style="font-size:15.0pt\;font-family:&quot\;S
	egoe UI&quot\;\,sans-serif\;color:#242424">Anslut till: </span></b></span>
	<span style="font-family:&quot\;Segoe UI&quot\;\,sans-serif\;color:#242424
	"><a href="https://teams.microsoft.com/meet/397521030067222?p=WUuMuw59qUOr
	f6RFYj" title="Meeting join"><span style="font-size:15.0pt\;color:#5B5FC7"
	>https://teams.microsoft.com/meet/397521030067222?p=WUuMuw59qUOrf6RFYj</sp
	an></a> <o:p></o:p></span></p></div><div style="margin-bottom:4.5pt"><p cl
	ass="MsoNormal"><span class="me-email-text-secondary"><span style="font-si
	ze:10.5pt\;font-family:&quot\;Segoe UI&quot\;\,sans-serif\;color:#616161">
	Mötes-ID: </span></span><span class="me-email-text"><span style="font-siz
	e:10.5pt\;font-family:&quot\;Segoe UI&quot\;\,sans-serif\;color:#242424">3
	97 521 030 067 222</span></span><span style="font-family:&quot\;Segoe UI&q
	uot\;\,sans-serif\;color:#242424"> <o:p></o:p></span></p></div><div style=
	"margin-bottom:24.0pt"><p class="MsoNormal"><span class="me-email-text-sec
	ondary"><span style="font-size:10.5pt\;font-family:&quot\;Segoe UI&quot\;\
	,sans-serif\;color:#616161">Lösenord: </span></span><span class="me-email
	-text"><span style="font-size:10.5pt\;font-family:&quot\;Segoe UI&quot\;\,
	sans-serif\;color:#242424">5nP2W9K6</span></span><span style="font-family:
	&quot\;Segoe UI&quot\;\,sans-serif\;color:#242424"> <o:p></o:p></span></p>
	</div><div style="margin-bottom:9.0pt"><div class="MsoNormal" align="cente
	r" style="text-align:center"><span style="font-family:&quot\;Segoe UI&quot
	\;\,sans-serif\;color:#242424"><hr size="1" width="100%" align="center"></
	span></div></div><div style="margin-bottom:18.0pt"><p class="MsoNormal"><s
	pan style="font-family:&quot\;Segoe UI&quot\;\,sans-serif\;color:#242424">
	<a href="https://aka.ms/JoinTeamsMeeting?omkt=sv-SE"><span style="font-siz
	e:10.5pt\;color:#5B5FC7">Behöver du hjälp?</span></a> </span><span style
	="font-family:&quot\;Segoe UI&quot\;\,sans-serif\;color:#616161">|</span><
	span style="font-family:&quot\;Segoe UI&quot\;\,sans-serif\;color:#242424"
	> <a href="https://teams.microsoft.com/l/meetup-join/19%3ameeting_YTIzY2Vl
	NjAtODA0NS00N2Y1LThmNmEtNjY5MDVmYWU4Y2M2%40thread.v2/0?context=%7b%22Tid%2
	2%3a%220ae51e19-07c8-4e4b-bb6d-648ee58410f4%22%2c%22Oid%22%3a%22aa560502-1
	c3e-49c4-9ced-0f850f3113a8%22%7d"><span style="font-size:10.5pt\;color:#5B
	5FC7">Systemreferens</span></a> <o:p></o:p></span></p></div><div><div styl
	e="margin-bottom:4.5pt"><p class="MsoNormal"><span class="me-email-text"><
	b><span style="font-family:&quot\;Segoe UI&quot\;\,sans-serif\;color:#2424
	24">Ring in via telefon</span></b></span><span style="font-family:&quot\;S
	egoe UI&quot\;\,sans-serif\;color:#242424"> <o:p></o:p></span></p></div><d
	iv style="margin-bottom:4.5pt"><p class="MsoNormal"><span style="font-fami
	ly:&quot\;Segoe UI&quot\;\,sans-serif\;color:#242424"><a href="tel:+468505
	21803\,\,635609424"><span style="font-size:10.5pt\;color:#5B5FC7">+46 8 50
	5 218 03\,\,635609424#</span></a> </span><span class="me-email-text"><span
	 style="font-size:10.5pt\;font-family:&quot\;Segoe UI&quot\;\,sans-serif\;
	color:#616161">Sverige\, Stockholm</span></span><span style="font-family:&
	quot\;Segoe UI&quot\;\,sans-serif\;color:#242424"> <o:p></o:p></span></p><
	/div><div style="margin-bottom:4.5pt"><p class="MsoNormal"><span style="fo
	nt-family:&quot\;Segoe UI&quot\;\,sans-serif\;color:#242424"><a href="http
	s://dialin.teams.microsoft.com/875d2cdb-68a9-4217-8ace-2c44218b3c93?id=635
	609424"><span style="font-size:10.5pt\;color:#5B5FC7">Hitta ett lokalt tel
	efonnummer</span></a> <o:p></o:p></span></p></div></div><div style="margin
	-bottom:18.0pt"><p class="MsoNormal"><span class="me-email-text-secondary"
	><span style="font-size:10.5pt\;font-family:&quot\;Segoe UI&quot\;\,sans-s
	erif\;color:#616161">Telefonkonferens-ID: </span></span><span class="me-em
	ail-text"><span style="font-size:10.5pt\;font-family:&quot\;Segoe UI&quot\
	;\,sans-serif\;color:#242424">635 609 424#</span></span><span style="font-
	family:&quot\;Segoe UI&quot\;\,sans-serif\;color:#242424"> <o:p></o:p></sp
	an></p></div><div style="margin-bottom:4.5pt"><p class="MsoNormal"><span c
	lass="me-email-headline"><b><span style="font-family:&quot\;Segoe UI&quot\
	;\,sans-serif\;color:#242424">Anslut via en videokonferensenhet</span></b>
	</span><span style="font-family:&quot\;Segoe UI&quot\;\,sans-serif\;color:
	#242424"> <o:p></o:p></span></p></div><div style="margin-bottom:4.5pt"><p 
	class="MsoNormal"><span class="me-email-text"><span style="font-size:10.5p
	t\;font-family:&quot\;Segoe UI&quot\;\,sans-serif\;color:#616161">Klientor
	ganisationsnyckel: </span></span><span class="me-email-text"><span style="
	font-size:10.5pt\;font-family:&quot\;Segoe UI&quot\;\,sans-serif\;color:#2
	42424">bosch@m.webex.com</span></span><span style="font-family:&quot\;Sego
	e UI&quot\;\,sans-serif\;color:#242424"> <o:p></o:p></span></p></div><div 
	style="margin-bottom:4.5pt"><p class="MsoNormal"><span class="me-email-tex
	t-secondary"><span style="font-size:10.5pt\;font-family:&quot\;Segoe UI&qu
	ot\;\,sans-serif\;color:#616161">Video-ID: </span></span><span class="me-e
	mail-text"><span style="font-size:10.5pt\;font-family:&quot\;Segoe UI&quot
	\;\,sans-serif\;color:#242424">128 947 088 80</span></span><span style="fo
	nt-family:&quot\;Segoe UI&quot\;\,sans-serif\;color:#242424"> <o:p></o:p><
	/span></p></div><div style="margin-bottom:18.0pt"><p class="MsoNormal"><sp
	an style="font-family:&quot\;Segoe UI&quot\;\,sans-serif\;color:#242424"><
	a href="https://www.webex.com/msteams?confid=12894708880&amp\;tenantkey=bo
	sch&amp\;domain=m.webex.com" target="_blank"><span style="font-size:10.5pt
	\;color:#5B5FC7">Mer information</span></a> <o:p></o:p></span></p></div><d
	iv><p class="MsoNormal"><span class="me-email-text-secondary"><span style=
	"font-size:10.5pt\;font-family:&quot\;Segoe UI&quot\;\,sans-serif\;color:#
	616161">För organisatörer: </span></span><span style="font-family:&quot\
	;Segoe UI&quot\;\,sans-serif\;color:#242424"><a href="https://teams.micros
	oft.com/meetingOptions/?organizerId=aa560502-1c3e-49c4-9ced-0f850f3113a8&a
	mp\;tenantId=0ae51e19-07c8-4e4b-bb6d-648ee58410f4&amp\;threadId=19_meeting
	_YTIzY2VlNjAtODA0NS00N2Y1LThmNmEtNjY5MDVmYWU4Y2M2@thread.v2&amp\;messageId
	=0&amp\;language=sv-SE" target="_blank"><span style="font-size:10.5pt\;col
	or:#5B5FC7">Mötesalternativ</span></a> </span><span style="font-family:&q
	uot\;Segoe UI&quot\;\,sans-serif\;color:#616161">|</span><span style="font
	-family:&quot\;Segoe UI&quot\;\,sans-serif\;color:#242424"> <a href="https
	://dialin.teams.microsoft.com/usp/pstnconferencing" target="_blank"><span 
	style="font-size:10.5pt\;color:#5B5FC7">Återställ PIN-kod för uppringni
	ng</span></a> <o:p></o:p></span></p></div><div style="margin-top:18.0pt\;m
	argin-bottom:4.5pt"><div><p class="MsoNormal"><span lang="EN-US" style="fo
	nt-size:10.5pt\;font-family:&quot\;Segoe UI&quot\;\,sans-serif\;color:#616
	161">Have a look at our Bosch-hints: Meetings &amp\; Calls (1) https://bos
	.ch/SPe\, and C-SC3 (2) https://bos.ch/CbF Whenever possible\, join via th
	e Teams client and use a recommended headset (3) https://bos.ch/zBEa<o:p><
	/o:p></span></p></div></div><div style="margin-bottom:18.0pt"><p class="Ms
	oNormal"><span style="font-family:&quot\;Segoe UI&quot\;\,sans-serif\;colo
	r:#242424"><a href="https://msprivacynotice.z16.web.core.windows.net/" tar
	get="_blank"><span style="font-size:10.5pt\;color:#5B5FC7">Sekretess och s
	äkerhet</span></a> <o:p></o:p></span></p></div><div style="margin-bottom:
	18.0pt\;overflow:hidden"><p class="MsoNormal"><span style="font-family:&qu
	ot\;Segoe UI&quot\;\,sans-serif\;color:#242424">__________________________
	______________________________________________________<o:p></o:p></span></
	p></div></div><p class="MsoNormal"><o:p>&nbsp\;</o:p></p></div></body></ht
	ml>
X-MICROSOFT-CDO-BUSYSTATUS:TENTATIVE
X-MICROSOFT-CDO-IMPORTANCE:1
X-MICROSOFT-CDO-INTENDEDSTATUS:BUSY
X-MICROSOFT-DISALLOW-COUNTER:FALSE
X-MS-OLK-APPTLASTSEQUENCE:0
BEGIN:VALARM
TRIGGER:-PT15M
ACTION:DISPLAY
DESCRIPTION:Reminder
END:VALARM
END:VEVENT
END:VCALENDAR
